 BEGIN:VCALENDAR
VERSION:2.0
PRODID:-//Espace Barbara - ECPv6.15.20//NONSGML v1.0//EN
CALSCALE:GREGORIAN
METHOD:PUBLISH
X-WR-CALNAME:Espace Barbara
X-ORIGINAL-URL:https://www.espaceculturelbarbara.fr
X-WR-CALDESC:Évènements pour Espace Barbara
REFRESH-INTERVAL;VALUE=DURATION:PT1H
X-Robots-Tag:noindex
X-PUBLISHED-TTL:PT1H
BEGIN:VTIMEZONE
TZID:Europe/Paris
BEGIN:DAYLIGHT
TZOFFSETFROM:+0100
TZOFFSETTO:+0200
TZNAME:CEST
DTSTART:20240331T010000
END:DAYLIGHT
BEGIN:STANDARD
TZOFFSETFROM:+0200
TZOFFSETTO:+0100
TZNAME:CET
DTSTART:20241027T010000
END:STANDARD
BEGIN:DAYLIGHT
TZOFFSETFROM:+0100
TZOFFSETTO:+0200
TZNAME:CEST
DTSTART:20250330T010000
END:DAYLIGHT
BEGIN:STANDARD
TZOFFSETFROM:+0200
TZOFFSETTO:+0100
TZNAME:CET
DTSTART:20251026T010000
END:STANDARD
BEGIN:DAYLIGHT
TZOFFSETFROM:+0100
TZOFFSETTO:+0200
TZNAME:CEST
DTSTART:20260329T010000
END:DAYLIGHT
BEGIN:STANDARD
TZOFFSETFROM:+0200
TZOFFSETTO:+0100
TZNAME:CET
DTSTART:20261025T010000
END:STANDARD
END:VTIMEZONE
BEGIN:VEVENT
DTSTART;TZID=Europe/Paris:20250305T200000
DTEND;TZID=Europe/Paris:20250305T213000
DTSTAMP:20260421T105439
CREATED:20240305T095622Z
LAST-MODIFIED:20240528T131317Z
UID:7425-1741204800-1741210200@www.espaceculturelbarbara.fr
SUMMARY:EN AVANT TOUTES - CIE BOOM
DESCRIPTION:Connaissez-vous Anne Lister\, Joséphine Pencalet ou encore Louise Chatelain ? \nGrâce à des silhouettes de papier\, Zoé Grossot exhume des portraits de femmes que l’Histoire a oubliées\, et nous propose un voyage entre les continents et les époques qui leur fait la part belle\, à leur diversité\, à leur destin tant exceptionnel que dramatique\, à leur quotidien et à leurs luttes. En avant toutes dessine dans un brillant seule en scène une autre réalité\, ignorée par nos imaginaires collectifs et propose d’autres modèles et représentations. Une célébration collective très visuelle\, réalisée avec intelligence et humour. \nCo-mise en scène : Zoé Grossot et Lou Simon \, Jeu et interprétation : Zoé Grossot \, Scénographie : Cerise Guyon\, Assistante scénographie et costumes : Salomé Vandendriessche\, Regard clown : Erwan David\, Conseillère dramaturgique : Karima El Kharraze\, Construction des silhouettes : Zoé Grossot et Anaïs Aubry ; Création lumière : Romain Le Gall-Brachet\, Création sonore : Thomas Demay\, Régie : Romain Le Gall-Brachet ou Eliah Elhadad Ramon \n  \nhttps://www.espaceculturelbarbara.fr/wp-content/uploads/2024/05/en_avant_toutes_-_teaser-1080p.mp4
URL:https://www.espaceculturelbarbara.fr/evenement/en-avant-toutes-cie-boom/
LOCATION:Espace Culturel Barbara\, 36 rue Jean Jaurès\, Petite-Forêt\, 59494\, France
CATEGORIES:Théâtre,Théâtre d'objets
ATTACH;FMTTYPE=image/jpeg:https://www.espaceculturelbarbara.fr/wp-content/uploads/2024/05/EAT3-Credit-photo-Romain-le-Gall-Brachet-scaled.jpg
END:VEVENT
END:VCALENDAR